BEGIN:VCALENDAR
VERSION:2.0
PRODID:-//Tukios.com/
BEGIN:VEVENT
UID:95862bff-697a-4732-8cb0-3e78d506972f@www.stottsphelpsmcquearyfh.com
DTSTAMP:20260423T234650Z
DTSTART:20260428T180000Z
DTEND:20260428T190000Z
SUMMARY:Funeral Service
DESCRIPTION:
URL:https://www.stottsphelpsmcquearyfh.com/obituaries/michael-curry
LOCATION: 210 Greensburg St  Columbia KY 42728
GEO:37.1040382;-85.3069179
END:VEVENT
END:VCALENDAR