BEGIN:VCALENDAR
VERSION:2.0
PRODID:-//Tukios.com/
BEGIN:VEVENT
UID:7f915e29-0b96-481c-a397-9d4f162d1670@www.stottsphelpsmcquearyfh.com
DTSTAMP:20260423T234911Z
DTSTART:20260427T220000Z
DTEND:20260428T010000Z
SUMMARY:Visitation
DESCRIPTION:
URL:https://www.stottsphelpsmcquearyfh.com/obituaries/michael-curry
LOCATION: 210 Greensburg St  Columbia KY 42728
GEO:37.1040382;-85.3069179
END:VEVENT
END:VCALENDAR