BEGIN:VCALENDAR
VERSION:2.0
PRODID:-//Tukios.com/
BEGIN:VEVENT
UID:02323a8e-881b-4dd9-a04a-6e893cd2ab93@www.stottsphelpsmcquearyfh.com
DTSTAMP:20260422T194959Z
DTSTART:20260427T180000Z
DTEND:20260427T190000Z
SUMMARY:Funeral Service
DESCRIPTION:
URL:https://www.stottsphelpsmcquearyfh.com/obituaries/joyce-sneed
LOCATION: 210 Greensburg St  Columbia KY 42728
GEO:37.1040382;-85.3069179
END:VEVENT
END:VCALENDAR