BEGIN:VCALENDAR
VERSION:2.0
PRODID:-//Tukios.com/
BEGIN:VEVENT
UID:598acadb-25b8-462b-a51e-b644259232a7@www.stottsphelpsmcquearyfh.com
DTSTAMP:20260422T194923Z
DTSTART:20260427T150000Z
DTEND:20260427T180000Z
SUMMARY:Visitation
DESCRIPTION:
URL:https://www.stottsphelpsmcquearyfh.com/obituaries/joyce-sneed
LOCATION: 210 Greensburg St  Columbia KY 42728
GEO:37.1040382;-85.3069179
END:VEVENT
END:VCALENDAR