BEGIN:VCALENDAR
VERSION:2.0
PRODID:-//Tukios.com/
BEGIN:VEVENT
UID:29cdd138-38f1-4cda-9aba-1e991d763248@www.stottsphelpsmcquearyfh.com
DTSTAMP:20260421T030618Z
DTSTART:20260425T190000Z
DTEND:20260425T200000Z
SUMMARY:Memorial Service
DESCRIPTION:
URL:https://www.stottsphelpsmcquearyfh.com/obituaries/diane-murrell
LOCATION: 210 Greensburg St  Columbia KY 42728
GEO:37.1040382;-85.3069179
END:VEVENT
END:VCALENDAR