BEGIN:VCALENDAR
VERSION:2.0
PRODID:-//Tukios.com/
BEGIN:VEVENT
UID:2abee38b-d8bb-42cb-b036-c9213439af91@www.stottsphelpsmcquearyfh.com
DTSTAMP:20260421T030445Z
DTSTART:20260425T180000Z
DTEND:20260425T190000Z
SUMMARY:Memorial Gathering
DESCRIPTION:
URL:https://www.stottsphelpsmcquearyfh.com/obituaries/diane-murrell
LOCATION: 210 Greensburg St  Columbia KY 42728
GEO:37.1040382;-85.3069179
END:VEVENT
END:VCALENDAR